BEGIN:VCALENDAR
VERSION:2.0
PRODID:-//Little House on Harmony Farms - ECPv6.15.13//NONSGML v1.0//EN
CALSCALE:GREGORIAN
METHOD:PUBLISH
X-WR-CALNAME:Little House on Harmony Farms
X-ORIGINAL-URL:https://littlehouseonharmonyfarms.com
X-WR-CALDESC:Events for Little House on Harmony Farms
REFRESH-INTERVAL;VALUE=DURATION:PT1H
X-Robots-Tag:noindex
X-PUBLISHED-TTL:PT1H
BEGIN:VTIMEZONE
TZID:America/New_York
BEGIN:DAYLIGHT
TZOFFSETFROM:-0500
TZOFFSETTO:-0400
TZNAME:EDT
DTSTART:20240310T070000
END:DAYLIGHT
BEGIN:STANDARD
TZOFFSETFROM:-0400
TZOFFSETTO:-0500
TZNAME:EST
DTSTART:20241103T060000
END:STANDARD
BEGIN:DAYLIGHT
TZOFFSETFROM:-0500
TZOFFSETTO:-0400
TZNAME:EDT
DTSTART:20250309T070000
END:DAYLIGHT
BEGIN:STANDARD
TZOFFSETFROM:-0400
TZOFFSETTO:-0500
TZNAME:EST
DTSTART:20251102T060000
END:STANDARD
BEGIN:DAYLIGHT
TZOFFSETFROM:-0500
TZOFFSETTO:-0400
TZNAME:EDT
DTSTART:20260308T070000
END:DAYLIGHT
BEGIN:STANDARD
TZOFFSETFROM:-0400
TZOFFSETTO:-0500
TZNAME:EST
DTSTART:20261101T060000
END:STANDARD
END:VTIMEZONE
BEGIN:VEVENT
DTSTART;TZID=America/New_York:20250714T133000
DTEND;TZID=America/New_York:20250714T153000
DTSTAMP:20260424T091134
CREATED:20250617T235347Z
LAST-MODIFIED:20250617T235347Z
UID:3556-1752499800-1752507000@littlehouseonharmonyfarms.com
SUMMARY:Make And Take Sewing Ages 8 And Up
DESCRIPTION:Make and Take sewing class (ages 8 and up)\n\nIn this Make and Take make class we will be making a stuffed goldfish! \nThis make and take class is part of our summer schedule. It runs differently than our regular programs because summers can get busy and we wanted to ensure our students would be able to complete their projects. Because of this\, the projects will be cut out and prepared in advance and the students will sew them together. \nDuring these summer classes\, we will heavily focus on sewing skills.
URL:https://littlehouseonharmonyfarms.com/event/make-and-take-sewing-ages-8-and-up/
LOCATION:Harmony Farms\, 379 Wiese Albert Rd\, Higganum\, CT\, 06441\, United States
ATTACH;FMTTYPE=image/jpeg:https://littlehouseonharmonyfarms.com/wp-content/uploads/2025/06/fish-sewing-scaled.jpg
ORGANIZER;CN="Harmony Farms":MAILTO:tara@littlehouseonharmonyfarms.com
END:VEVENT
BEGIN:VEVENT
DTSTART;TZID=America/New_York:20250711T100000
DTEND;TZID=America/New_York:20250711T111500
DTSTAMP:20260424T091134
CREATED:20250618T002732Z
LAST-MODIFIED:20250618T002732Z
UID:3584-1752228000-1752232500@littlehouseonharmonyfarms.com
SUMMARY:Hand Sewing Class With Creature Feature Ages 4-7
DESCRIPTION:This class  is designed for younger students ages 4 and up that would like to move onto sewing lessons when they are older\, or are creative and like to use their hands. In this class\, we will learn how to sew with a hand needle while creating fun projects that can be taken home at the end of each class. The last 15 minutes of class\, weather permitting\, we will have a creature feature. During this time\, they will be able to meet one of the animals on the farm and ask questions. \n*This class may require parent participation. You may need to help your child/children as they fine tune their fine motor skills and become more independent.
URL:https://littlehouseonharmonyfarms.com/event/hand-sewing-class-with-creature-feature-ages-4-7-2/
LOCATION:Harmony Farms\, 379 Wiese Albert Rd\, Higganum\, CT\, 06441\, United States
ORGANIZER;CN="Harmony Farms":MAILTO:tara@littlehouseonharmonyfarms.com
END:VEVENT
BEGIN:VEVENT
DTSTART;TZID=America/New_York:20250709T090000
DTEND;TZID=America/New_York:20250709T110000
DTSTAMP:20260424T091134
CREATED:20250618T002117Z
LAST-MODIFIED:20250618T002154Z
UID:3576-1752051600-1752058800@littlehouseonharmonyfarms.com
SUMMARY:Let's Learn About Fiber!
DESCRIPTION:In this 2 hour class\, we will be learning about alpacas and Angora goats. By comparing alpaca fiber to Angora fiber\, we will get to see how fiber differs and the reasons for it. You will get to meet our resident alpacas and Angora goat. Working with alpaca fiber and other medias\, you will get to create and take home a you own felted project. \nThis class is for ages 4 and up. Please note that it is not a drop off class. 
URL:https://littlehouseonharmonyfarms.com/event/lets-learn-about-fiber/
LOCATION:Harmony Farms\, 379 Wiese Albert Rd\, Higganum\, CT\, 06441\, United States
ATTACH;FMTTYPE=image/jpeg:https://littlehouseonharmonyfarms.com/wp-content/uploads/2024/10/IMG_4448.jpeg
ORGANIZER;CN="Harmony Farms":MAILTO:tara@littlehouseonharmonyfarms.com
END:VEVENT
BEGIN:VEVENT
DTSTART;TZID=America/New_York:20250701T100000
DTEND;TZID=America/New_York:20250701T111500
DTSTAMP:20260424T091134
CREATED:20250618T002508Z
LAST-MODIFIED:20250618T002508Z
UID:3582-1751364000-1751368500@littlehouseonharmonyfarms.com
SUMMARY:Hand Sewing Class With Creature Feature Ages 4-7
DESCRIPTION:This class  is designed for younger students ages 4 and up that would like to move onto sewing lessons when they are older\, or are creative and like to use their hands. In this class\, we will learn how to sew with a hand needle while creating fun projects that can be taken home at the end of each class. The last 15 minutes of class\, weather permitting\, we will have a creature feature. During this time\, they will be able to meet one of the animals on the farm and ask questions. \n*This class may require parent participation. You may need to help your child/children as they fine tune their fine motor skills and become more independent.
URL:https://littlehouseonharmonyfarms.com/event/hand-sewing-class-with-creature-feature-ages-4-7/
LOCATION:Harmony Farms\, 379 Wiese Albert Rd\, Higganum\, CT\, 06441\, United States
ORGANIZER;CN="Harmony Farms":MAILTO:tara@littlehouseonharmonyfarms.com
END:VEVENT
BEGIN:VEVENT
DTSTART;TZID=America/New_York:20250623T090000
DTEND;TZID=America/New_York:20250627T130000
DTSTAMP:20260424T091134
CREATED:20250522T165748Z
LAST-MODIFIED:20250522T165757Z
UID:3472-1750669200-1751029200@littlehouseonharmonyfarms.com
SUMMARY:Farm Summer Camp Session 1
DESCRIPTION:Join us for our week long summer program and learn all about farm animals! \nThis program runs Monday through Friday from 9am-1pm  \nWEEK 1: June 23rd-27th \n*CLICK HERE TO REGISTER* \nYour child will have so much fun learning about and spending time with farm animals\, playing games\, and making handicrafts! \nEach day we will focus on a different farm animal from our farm including alpacas\, nigerian goats\, angora goat\, chickens\, and pony. We will have baby animals throughout the summer as well so your child may be able to snuggle a baby goat or chick.
URL:https://littlehouseonharmonyfarms.com/event/farm-summer-camp-2/
LOCATION:Harmony Farms\, 379 Wiese Albert Rd\, Higganum\, CT\, 06441\, United States
ATTACH;FMTTYPE=image/jpeg:https://littlehouseonharmonyfarms.com/wp-content/uploads/2024/02/IMG_6623-scaled.jpg
ORGANIZER;CN="Harmony Farms":MAILTO:tara@littlehouseonharmonyfarms.com
END:VEVENT
BEGIN:VEVENT
DTSTART;TZID=America/New_York:20250617T080000
DTEND;TZID=America/New_York:20250617T170000
DTSTAMP:20260424T091134
CREATED:20250618T001615Z
LAST-MODIFIED:20250618T001615Z
UID:3572-1750147200-1750179600@littlehouseonharmonyfarms.com
SUMMARY:Make And Take Sewing Class Ages 8 And Up
DESCRIPTION:In this Make and Take make class\, students will complete their project in just one session! \nThis make and take class is part of our summer schedule. It runs differently than our regular programs because summers can get busy and we wanted to ensure our students would be able to complete their projects. Because of this\, the projects will be cut out and prepared in advance and the students will sew them together. \nDuring these summer classes\, we will heavily focus on sewing skills.
URL:https://littlehouseonharmonyfarms.com/event/make-and-take-sewing-class-ages-8-and-up-6/
LOCATION:Harmony Farms\, 379 Wiese Albert Rd\, Higganum\, CT\, 06441\, United States
ORGANIZER;CN="Harmony Farms":MAILTO:tara@littlehouseonharmonyfarms.com
END:VEVENT
BEGIN:VEVENT
DTSTART;TZID=America/New_York:20250607T130000
DTEND;TZID=America/New_York:20250607T160000
DTSTAMP:20260424T091134
CREATED:20250522T153008Z
LAST-MODIFIED:20250522T153008Z
UID:3460-1749301200-1749312000@littlehouseonharmonyfarms.com
SUMMARY:Father's Day Grilling Apron Make And Take
DESCRIPTION:Join us on June 7th from 1-4 as we celebrate our amazing Fathers by making them customized gilling aprons. \nThis is a make and take class. That means\, you choose the color apron you would like to make and we prepare the project and cut out the fabric in advance so you can sewing it together and add your personal touch by decorating it from start to finish in one class. \nREGISTER HERE \nYou do not need to have previous sewing experience. We will walk you through the process one step at a time. \nThis class is for any participant ages 8 and up. \n*An email confirmation will be sent once you have signed up. Attached in the email will be a waiver to participate in activities on the farm. If you have not signed a waiver for the 2025 calendar year\, please fill out\, sign and bring it on the first day of class. (Please include all persons that will be on the farm including adults and siblings not participating.)
URL:https://littlehouseonharmonyfarms.com/event/fathers-day-grilling-apron-make-and-take/
LOCATION:Harmony Farms\, 379 Wiese Albert Rd\, Higganum\, CT\, 06441\, United States
ATTACH;FMTTYPE=image/jpeg:https://littlehouseonharmonyfarms.com/wp-content/uploads/2025/05/gene-apron1-1-scaled.jpg
ORGANIZER;CN="Harmony Farms":MAILTO:tara@littlehouseonharmonyfarms.com
END:VEVENT
BEGIN:VEVENT
DTSTART;TZID=America/New_York:20250606T090000
DTEND;TZID=America/New_York:20250606T120000
DTSTAMP:20260424T091134
CREATED:20250522T152426Z
LAST-MODIFIED:20250522T164302Z
UID:3435-1749200400-1749211200@littlehouseonharmonyfarms.com
SUMMARY:Father's Day Grilling Apron Make and Take
DESCRIPTION:Join us on June 6th from 9-12 as we celebrate our amazing Fathers by making them customized gilling aprons. \n*CLICK HERE TO REGISTER* \nThis is a make and take class. That means\, you choose the color apron you would like to make and we prepare the project and cut out the fabric in advance so you can sewing it together and add your personal touch by decorating it from start to finish in one class. \nYou do not need to have previous sewing experience. We will walk you through the process one step at a time. \nThis class is for any participant ages 8 and up. \n*An email confirmation will be sent once you have signed up. Attached in the email will be a waiver to participate in activities on the farm. If you have not signed a waiver for the 2025 calendar year\, please fill out\, sign and bring it on the first day of class. (Please include all persons that will be on the farm including adults and siblings not participating.)
URL:https://littlehouseonharmonyfarms.com/event/fathers-day-apron-make-and-take/
LOCATION:Harmony Farms\, 379 Wiese Albert Rd\, Higganum\, CT\, 06441\, United States
ATTACH;FMTTYPE=image/jpeg:https://littlehouseonharmonyfarms.com/wp-content/uploads/2025/05/gene-apron1-1-scaled.jpg
ORGANIZER;CN="Harmony Farms":MAILTO:tara@littlehouseonharmonyfarms.com
END:VEVENT
END:VCALENDAR