BEGIN:VCALENDAR
VERSION:2.0
PRODID:-//Little House on Harmony Farms - ECPv6.15.13//NONSGML v1.0//EN
CALSCALE:GREGORIAN
METHOD:PUBLISH
X-WR-CALNAME:Little House on Harmony Farms
X-ORIGINAL-URL:https://littlehouseonharmonyfarms.com
X-WR-CALDESC:Events for Little House on Harmony Farms
REFRESH-INTERVAL;VALUE=DURATION:PT1H
X-Robots-Tag:noindex
X-PUBLISHED-TTL:PT1H
BEGIN:VTIMEZONE
TZID:America/New_York
BEGIN:DAYLIGHT
TZOFFSETFROM:-0500
TZOFFSETTO:-0400
TZNAME:EDT
DTSTART:20250309T070000
END:DAYLIGHT
BEGIN:STANDARD
TZOFFSETFROM:-0400
TZOFFSETTO:-0500
TZNAME:EST
DTSTART:20251102T060000
END:STANDARD
BEGIN:DAYLIGHT
TZOFFSETFROM:-0500
TZOFFSETTO:-0400
TZNAME:EDT
DTSTART:20260308T070000
END:DAYLIGHT
BEGIN:STANDARD
TZOFFSETFROM:-0400
TZOFFSETTO:-0500
TZNAME:EST
DTSTART:20261101T060000
END:STANDARD
BEGIN:DAYLIGHT
TZOFFSETFROM:-0500
TZOFFSETTO:-0400
TZNAME:EDT
DTSTART:20270314T070000
END:DAYLIGHT
BEGIN:STANDARD
TZOFFSETFROM:-0400
TZOFFSETTO:-0500
TZNAME:EST
DTSTART:20271107T060000
END:STANDARD
END:VTIMEZONE
BEGIN:VEVENT
DTSTART;TZID=America/New_York:20260207T100000
DTEND;TZID=America/New_York:20260207T120000
DTSTAMP:20260423T201228
CREATED:20251201T164540Z
LAST-MODIFIED:20251201T164540Z
UID:3913-1770458400-1770465600@littlehouseonharmonyfarms.com
SUMMARY:Children's Sewing Class Ages 8 And Up
DESCRIPTION:In this class\, the students will learn the entire process of sewing starting with cutting out the pattern with fabric to sewing it into a completed project. Each project will focus on a new skill. This class is meant to be a progressive class where the students will learn the process of sewing from raw materials to completion. They will be cutting fabric\, learning to use a sewing machine\, pinning\, measuring\, using patterns and so much more.
URL:https://littlehouseonharmonyfarms.com/event/childrens-sewing-class-ages-8-and-up-3/
LOCATION:Harmony Farms\, 379 Wiese Albert Rd\, Higganum\, CT\, 06441\, United States
ATTACH;FMTTYPE=image/jpeg:https://littlehouseonharmonyfarms.com/wp-content/uploads/2025/06/dress-form-pin-cusihion.jpg
ORGANIZER;CN="Harmony Farms":MAILTO:tara@littlehouseonharmonyfarms.com
END:VEVENT
BEGIN:VEVENT
DTSTART;TZID=America/New_York:20260209T130000
DTEND;TZID=America/New_York:20260209T150000
DTSTAMP:20260423T201228
CREATED:20251201T162718Z
LAST-MODIFIED:20251201T162718Z
UID:3905-1770642000-1770649200@littlehouseonharmonyfarms.com
SUMMARY:Children's Sewing Class Ages 8 and Up
DESCRIPTION:In this class\, the students will learn the entire process of sewing starting with cutting out the pattern with fabric to sewing it into a completed project. Each project will focus on a new skill. This class is meant to be a progressive class where the students will learn the process of sewing from raw materials to completion. They will be cutting fabric\, learning to use a sewing machine\, pinning\, measuring\, using patterns and so much more.
URL:https://littlehouseonharmonyfarms.com/event/childrens-sewing-class-ages-8-and-up/
LOCATION:Harmony Farms\, 379 Wiese Albert Rd\, Higganum\, CT\, 06441\, United States
ATTACH;FMTTYPE=image/jpeg:https://littlehouseonharmonyfarms.com/wp-content/uploads/2025/06/dress-form-pin-cusihion.jpg
ORGANIZER;CN="Harmony Farms":MAILTO:tara@littlehouseonharmonyfarms.com
END:VEVENT
BEGIN:VEVENT
DTSTART;TZID=America/New_York:20260213T100000
DTEND;TZID=America/New_York:20260213T120000
DTSTAMP:20260423T201228
CREATED:20251201T154755Z
LAST-MODIFIED:20251202T184237Z
UID:3893-1770976800-1770984000@littlehouseonharmonyfarms.com
SUMMARY:Sewing class ages 8 and up Friday
DESCRIPTION:Price range: $60.00 through $150.00 \n\nThis is no ordinary sewing class of make and take projects! \nIn this class\, the students will learn the entire process of sewing starting with cutting out the pattern with fabric to sewing it into a completed project. Each project will focus on a new skill. This class is meant to be a progressive class where the students will learn the process of sewing from raw materials to completion. They will be cutting fabric\, learning to use a sewing machine\, pinning\, measuring\, using patterns and so much more. \nWe are located at 379 Wiese Albert Rd. Higganum CT.
URL:https://littlehouseonharmonyfarms.com/event/sewing-class-ages-8-and-up/
LOCATION:Harmony Farms\, 379 Wiese Albert Rd\, Higganum\, CT\, 06441\, United States
ATTACH;FMTTYPE=image/jpeg:https://littlehouseonharmonyfarms.com/wp-content/uploads/2025/06/dress-form-pin-cusihion.jpg
ORGANIZER;CN="Harmony Farms":MAILTO:tara@littlehouseonharmonyfarms.com
END:VEVENT
BEGIN:VEVENT
DTSTART;TZID=America/New_York:20260214T100000
DTEND;TZID=America/New_York:20260214T120000
DTSTAMP:20260423T201228
CREATED:20251201T165253Z
LAST-MODIFIED:20251201T165253Z
UID:3917-1771063200-1771070400@littlehouseonharmonyfarms.com
SUMMARY:Children's Sewing Class Ages 8 and Up
DESCRIPTION:In this class\, the students will learn the entire process of sewing starting with cutting out the pattern with fabric to sewing it into a completed project. Each project will focus on a new skill. This class is meant to be a progressive class where the students will learn the process of sewing from raw materials to completion. They will be cutting fabric\, learning to use a sewing machine\, pinning\, measuring\, using patterns and so much more.
URL:https://littlehouseonharmonyfarms.com/event/childrens-sewing-class-ages-8-and-up-5/
LOCATION:CT
ATTACH;FMTTYPE=image/jpeg:https://littlehouseonharmonyfarms.com/wp-content/uploads/2025/06/dress-form-pin-cusihion.jpg
ORGANIZER;CN="Harmony Farms":MAILTO:tara@littlehouseonharmonyfarms.com
END:VEVENT
BEGIN:VEVENT
DTSTART;TZID=America/New_York:20260216T130000
DTEND;TZID=America/New_York:20260216T150000
DTSTAMP:20260423T201228
CREATED:20251201T163120Z
LAST-MODIFIED:20251201T163120Z
UID:3907-1771246800-1771254000@littlehouseonharmonyfarms.com
SUMMARY:Children's Sewing Classes ages 8 and Up
DESCRIPTION:In this class\, the students will learn the entire process of sewing starting with cutting out the pattern with fabric to sewing it into a completed project. Each project will focus on a new skill. This class is meant to be a progressive class where the students will learn the process of sewing from raw materials to completion. They will be cutting fabric\, learning to use a sewing machine\, pinning\, measuring\, using patterns and so much more.
URL:https://littlehouseonharmonyfarms.com/event/childrens-sewing-classes-ages-8-and-up/
LOCATION:Harmony Farms\, 379 Wiese Albert Rd\, Higganum\, CT\, 06441\, United States
ATTACH;FMTTYPE=image/jpeg:https://littlehouseonharmonyfarms.com/wp-content/uploads/2025/06/dress-form-pin-cusihion.jpg
ORGANIZER;CN="Harmony Farms":MAILTO:tara@littlehouseonharmonyfarms.com
END:VEVENT
BEGIN:VEVENT
DTSTART;TZID=America/New_York:20260221T100000
DTEND;TZID=America/New_York:20260221T120000
DTSTAMP:20260423T201228
CREATED:20251201T171538Z
LAST-MODIFIED:20251201T171538Z
UID:3919-1771668000-1771675200@littlehouseonharmonyfarms.com
SUMMARY:Children's Sewing Class Ages 8 And Up
DESCRIPTION:In this class\, the students will learn the entire process of sewing starting with cutting out the pattern with fabric to sewing it into a completed project. Each project will focus on a new skill. This class is meant to be a progressive class where the students will learn the process of sewing from raw materials to completion. They will be cutting fabric\, learning to use a sewing machine\, pinning\, measuring\, using patterns and so much more.
URL:https://littlehouseonharmonyfarms.com/event/childrens-sewing-class-ages-8-and-up-6/
LOCATION:Harmony Farms\, 379 Wiese Albert Rd\, Higganum\, CT\, 06441\, United States
ATTACH;FMTTYPE=image/jpeg:https://littlehouseonharmonyfarms.com/wp-content/uploads/2025/06/dress-form-pin-cusihion.jpg
ORGANIZER;CN="Harmony Farms":MAILTO:tara@littlehouseonharmonyfarms.com
END:VEVENT
BEGIN:VEVENT
DTSTART;TZID=America/New_York:20260223T130000
DTEND;TZID=America/New_York:20260223T150000
DTSTAMP:20260423T201228
CREATED:20251201T163501Z
LAST-MODIFIED:20251201T163501Z
UID:3909-1771851600-1771858800@littlehouseonharmonyfarms.com
SUMMARY:Children's Sewing Class Ages 8 and Up
DESCRIPTION:In this class\, the students will learn the entire process of sewing starting with cutting out the pattern with fabric to sewing it into a completed project. Each project will focus on a new skill. This class is meant to be a progressive class where the students will learn the process of sewing from raw materials to completion. They will be cutting fabric\, learning to use a sewing machine\, pinning\, measuring\, using patterns and so much more.
URL:https://littlehouseonharmonyfarms.com/event/childrens-sewing-class-ages-8-and-up-2/
LOCATION:Harmony Farms\, 379 Wiese Albert Rd\, Higganum\, CT\, 06441\, United States
ATTACH;FMTTYPE=image/jpeg:https://littlehouseonharmonyfarms.com/wp-content/uploads/2025/06/dress-form-pin-cusihion.jpg
ORGANIZER;CN="Harmony Farms":MAILTO:tara@littlehouseonharmonyfarms.com
END:VEVENT
BEGIN:VEVENT
DTSTART;TZID=America/New_York:20260228T100000
DTEND;TZID=America/New_York:20260228T120000
DTSTAMP:20260423T201228
CREATED:20251201T164843Z
LAST-MODIFIED:20251201T164939Z
UID:3915-1772272800-1772280000@littlehouseonharmonyfarms.com
SUMMARY:Children's Sewing Class Ages 8 And Up
DESCRIPTION:In this class\, the students will learn the entire process of sewing starting with cutting out the pattern with fabric to sewing it into a completed project. Each project will focus on a new skill. This class is meant to be a progressive class where the students will learn the process of sewing from raw materials to completion. They will be cutting fabric\, learning to use a sewing machine\, pinning\, measuring\, using patterns and so much more.
URL:https://littlehouseonharmonyfarms.com/event/childrens-sewing-class-ages-8-and-up-4/
LOCATION:Harmony Farms\, 379 Wiese Albert Rd\, Higganum\, CT\, 06441\, United States
ATTACH;FMTTYPE=image/jpeg:https://littlehouseonharmonyfarms.com/wp-content/uploads/2025/06/dress-form-pin-cusihion.jpg
ORGANIZER;CN="Harmony Farms":MAILTO:tara@littlehouseonharmonyfarms.com
END:VEVENT
BEGIN:VEVENT
DTSTART;TZID=America/New_York:20260622T090000
DTEND;TZID=America/New_York:20260626T130000
DTSTAMP:20260423T201228
CREATED:20260204T175332Z
LAST-MODIFIED:20260227T172931Z
UID:3961-1782118800-1782478800@littlehouseonharmonyfarms.com
SUMMARY:Farm Summer Camp Week 1
DESCRIPTION:Join us for our week long summer program for ages 6 and up.\nYour child will have so much fun learning about and spending time with farm animals\, playing games\, and making handicrafts!\n \nThese programs run Monday through Friday. There are two options for each week. \nOption 1. Camp is from 9am-1pm  $400.00 \nOption 2. Camp with extended day 9am-5pm $600.00 (The extended day portion of the day will include games\, crafts\, and extra animal time.) \nPlease choose which week and if you would like to signup for just the camp or after care as well.  A $100.00 deposit is required to hold your child’s place. The remainder of tuition is due on or before the first day of the program. \nWEEK 1: June 22nd-26th.                    A hands-on farm camp where children connect with nature through hands-on experiences with farm animals\, traditional fiber crafts\, and handicrafts. Campers will enjoy old fashioned games\, outdoor play\, and exploration. \n WEEK 2: July 20th to July 24th.        A hands-on farm camp where participants explore the art of fiber from animal to finished product\, caring for our alpacas and angora goat\, washing\, carding\, and spinning yarn while connecting with farm animals and nature. \nSignup Here \n*An email confirmation will be sent once you have signed up. Attached in the email will be a waiver to participate in activities on the farm. If you have not submitted a waiver for the year 2026\, please fill it out\,  sign and bring on the first day of class. (Please include all persons that will be on the farm including adults and siblings not participating.) \n*Please note that our class size has a Max of 10 participants. Signing your child up for this class reserves his/her space. \n\n\n\n\n\nweek
URL:https://littlehouseonharmonyfarms.com/event/farm-summer-camp-week-1/
LOCATION:Harmony Farms\, 379 Wiese Albert Rd\, Higganum\, CT\, 06441\, United States
ATTACH;FMTTYPE=image/jpeg:https://littlehouseonharmonyfarms.com/wp-content/uploads/2023/03/birthdayparty1.jpg
ORGANIZER;CN="Harmony Farms":MAILTO:tara@littlehouseonharmonyfarms.com
END:VEVENT
BEGIN:VEVENT
DTSTART;TZID=America/New_York:20260706T090000
DTEND;TZID=America/New_York:20260709T130000
DTSTAMP:20260423T201228
CREATED:20260204T180232Z
LAST-MODIFIED:20260227T173231Z
UID:3965-1783328400-1783602000@littlehouseonharmonyfarms.com
SUMMARY:Sewing Camp Week 1
DESCRIPTION:Monday through Thursday July 6th to July 9th.                Participants learn how to design their very own patterns from scratch\, cut their fabric\, and sew it together into a finished project to be proud of.  When we are not sewing\, everyone gets to unwind and laugh with goats\, alpacas\, chickens and ducks all while soaking up the summer sun. It’s the perfect mix of hands-on skill building\, imagination\, and barnyard fun. \nSignup Here
URL:https://littlehouseonharmonyfarms.com/event/sewing-camp-week-1/
LOCATION:Harmony Farms\, 379 Wiese Albert Rd\, Higganum\, CT\, 06441\, United States
ATTACH;FMTTYPE=image/jpeg:https://littlehouseonharmonyfarms.com/wp-content/uploads/2025/06/make-and-take-scaled.jpg
ORGANIZER;CN="Harmony Farms":MAILTO:tara@littlehouseonharmonyfarms.com
END:VEVENT
BEGIN:VEVENT
DTSTART;TZID=America/New_York:20260713T090000
DTEND;TZID=America/New_York:20260717T130000
DTSTAMP:20260423T201228
CREATED:20260204T180717Z
LAST-MODIFIED:20260227T173147Z
UID:3967-1783933200-1784293200@littlehouseonharmonyfarms.com
SUMMARY:Sewing Camp Week 2
DESCRIPTION:WEEK 2: Monday through Friday July 13th to July 17th.            A fun creative summer camp where kids learn basic sewing skills while enjoying hands-on time with friendly farm animals. Campers complete sewing projects\, build confidence with fabrics and tools\, and explore life on the farm through animal care and outdoor activities\, blending creativity\, learning\, and nature into a memorable summer experience. \nSignup Here
URL:https://littlehouseonharmonyfarms.com/event/sewing-camp-week-2/
LOCATION:Harmony Farms\, 379 Wiese Albert Rd\, Higganum\, CT\, 06441\, United States
ATTACH;FMTTYPE=image/jpeg:https://littlehouseonharmonyfarms.com/wp-content/uploads/2024/02/IMG_7380-scaled.jpg
ORGANIZER;CN="Harmony Farms":MAILTO:tara@littlehouseonharmonyfarms.com
END:VEVENT
BEGIN:VEVENT
DTSTART;TZID=America/New_York:20260720T090000
DTEND;TZID=America/New_York:20260724T130000
DTSTAMP:20260423T201228
CREATED:20260204T175654Z
LAST-MODIFIED:20260227T171838Z
UID:3963-1784538000-1784898000@littlehouseonharmonyfarms.com
SUMMARY:Farm Summer Camp Week 2
DESCRIPTION:Join us for our week long summer program for ages 6 and up.\nYour child will have so much fun learning about and spending time with farm animals\, playing games\, and making handicrafts!\n \nThese programs run Monday through Friday. There are two options for each week. \nOption 1. Camp is from 9am-1pm  $400.00 \nOption 2. Camp with extended day 9am-5pm $600.00 (The extended day portion of the day will include games\, crafts\, and extra animal time.) \nPlease choose which week and if you would like to signup for just the camp or after care as well.  A $100.00 deposit is required to hold your child’s place. The remainder of tuition is due on or before the first day of the program. \nWEEK 1: June 22nd-26th.                    A hands-on farm camp where children connect with nature through hands-on experiences with farm animals\, traditional fiber crafts\, and handicrafts. Campers will enjoy old fashioned games\, outdoor play\, and exploration. \n WEEK 2: July 20th to July 24th.        A hands-on farm camp where participants explore the art of fiber from animal to finished product\, caring for our alpacas and angora goat\, washing\, carding\, and spinning yarn while connecting with farm animals and nature. \nSignup Here \n*An email confirmation will be sent once you have signed up. Attached in the email will be a waiver to participate in activities on the farm. If you have not submitted a waiver for the year 2026\, please fill it out\,  sign and bring on the first day of class. (Please include all persons that will be on the farm including adults and siblings not participating.)
URL:https://littlehouseonharmonyfarms.com/event/farm-summer-camp-week-2/
LOCATION:Harmony Farms\, 379 Wiese Albert Rd\, Higganum\, CT\, 06441\, United States
ORGANIZER;CN="Harmony Farms":MAILTO:tara@littlehouseonharmonyfarms.com
END:VEVENT
END:VCALENDAR