BEGIN:VCALENDAR
VERSION:2.0
PRODID:-//Little House on Harmony Farms - ECPv6.15.13//NONSGML v1.0//EN
CALSCALE:GREGORIAN
METHOD:PUBLISH
X-WR-CALNAME:Little House on Harmony Farms
X-ORIGINAL-URL:https://littlehouseonharmonyfarms.com
X-WR-CALDESC:Events for Little House on Harmony Farms
REFRESH-INTERVAL;VALUE=DURATION:PT1H
X-Robots-Tag:noindex
X-PUBLISHED-TTL:PT1H
BEGIN:VTIMEZONE
TZID:America/New_York
BEGIN:DAYLIGHT
TZOFFSETFROM:-0500
TZOFFSETTO:-0400
TZNAME:EDT
DTSTART:20240310T070000
END:DAYLIGHT
BEGIN:STANDARD
TZOFFSETFROM:-0400
TZOFFSETTO:-0500
TZNAME:EST
DTSTART:20241103T060000
END:STANDARD
BEGIN:DAYLIGHT
TZOFFSETFROM:-0500
TZOFFSETTO:-0400
TZNAME:EDT
DTSTART:20250309T070000
END:DAYLIGHT
BEGIN:STANDARD
TZOFFSETFROM:-0400
TZOFFSETTO:-0500
TZNAME:EST
DTSTART:20251102T060000
END:STANDARD
BEGIN:DAYLIGHT
TZOFFSETFROM:-0500
TZOFFSETTO:-0400
TZNAME:EDT
DTSTART:20260308T070000
END:DAYLIGHT
BEGIN:STANDARD
TZOFFSETFROM:-0400
TZOFFSETTO:-0500
TZNAME:EST
DTSTART:20261101T060000
END:STANDARD
END:VTIMEZONE
BEGIN:VEVENT
DTSTART;TZID=America/New_York:20251205T060000
DTEND;TZID=America/New_York:20251205T193000
DTSTAMP:20260423T200803
CREATED:20251110T150002Z
LAST-MODIFIED:20251110T150002Z
UID:3879-1764914400-1764963000@littlehouseonharmonyfarms.com
SUMMARY:Adults Make and Take Ugly Sweatshirt
DESCRIPTION:Get ready to stitch up some holiday fun with our Adult Sewing Class: Appliqué Your Own Ugly Christmas Sweatshirt! This light hearted workshop is perfect for anyone looking to add a creative twist to the classic ugly sweater tradition. Learn simple and festive appliqué techniques to transform a plain sweatshirt into a one-of-a-kind holiday masterpiece. Whether a seasoned sewer or beginner\, you will be guided step-by-step through the process. Come for the crafting\, start for the fun\, and leave with the ugliest (most fabulous) Christmas sweatshirt at your next holiday party. \nWe provide all of the fabric and supplies for the appliqué but Please bring your own sweatshirt to the class to decorate. You can bring any style and color you would like.
URL:https://littlehouseonharmonyfarms.com/event/adults-make-and-take-ugly-sweatshirt/
LOCATION:Harmony Farms\, 379 Wiese Albert Rd\, Higganum\, CT\, 06441\, United States
ATTACH;FMTTYPE=image/jpeg:https://littlehouseonharmonyfarms.com/wp-content/uploads/2025/03/ugly-sweater-scaled.jpg
ORGANIZER;CN="Harmony Farms":MAILTO:tara@littlehouseonharmonyfarms.com
END:VEVENT
BEGIN:VEVENT
DTSTART;TZID=America/New_York:20251208T100000
DTEND;TZID=America/New_York:20251208T111500
DTSTAMP:20260423T200803
CREATED:20251110T145300Z
LAST-MODIFIED:20251111T213832Z
UID:3877-1765188000-1765192500@littlehouseonharmonyfarms.com
SUMMARY:Fiber Art Christmas Ornament all ages December 8th 10-11:15am
DESCRIPTION:Celebrate the holiday season with a Fiber Art Christmas Ornament\, where creativity meets country charm! Join us on the farm to craft a beautiful\, handmade ornament using natural wool fiber. Perfect for all ages\, this festive workshop blends the joy of the holidays with the warmth of traditional fiber arts. Whether you’re looking to make a heartfelt gift\, start a family tradition\, or simply experience the wonder of handmade art\, our fiber art Christmas ornament project is the perfect way to add a touch of rustic creativity to your Christmas season.
URL:https://littlehouseonharmonyfarms.com/event/fiber-art-christmas-ornament-all-ages/
LOCATION:Harmony Farms\, 379 Wiese Albert Rd\, Higganum\, CT\, 06441\, United States
ATTACH;FMTTYPE=image/jpeg:https://littlehouseonharmonyfarms.com/wp-content/uploads/2025/11/fiber-Christmas-ornament-scaled.jpg
ORGANIZER;CN="Harmony Farms":MAILTO:tara@littlehouseonharmonyfarms.com
END:VEVENT
END:VCALENDAR