BEGIN:VCALENDAR
VERSION:2.0
PRODID:-//Little House on Harmony Farms - ECPv6.15.13//NONSGML v1.0//EN
CALSCALE:GREGORIAN
METHOD:PUBLISH
X-ORIGINAL-URL:https://littlehouseonharmonyfarms.com
X-WR-CALDESC:Events for Little House on Harmony Farms
REFRESH-INTERVAL;VALUE=DURATION:PT1H
X-Robots-Tag:noindex
X-PUBLISHED-TTL:PT1H
BEGIN:VTIMEZONE
TZID:America/New_York
BEGIN:DAYLIGHT
TZOFFSETFROM:-0500
TZOFFSETTO:-0400
TZNAME:EDT
DTSTART:20240310T070000
END:DAYLIGHT
BEGIN:STANDARD
TZOFFSETFROM:-0400
TZOFFSETTO:-0500
TZNAME:EST
DTSTART:20241103T060000
END:STANDARD
BEGIN:DAYLIGHT
TZOFFSETFROM:-0500
TZOFFSETTO:-0400
TZNAME:EDT
DTSTART:20250309T070000
END:DAYLIGHT
BEGIN:STANDARD
TZOFFSETFROM:-0400
TZOFFSETTO:-0500
TZNAME:EST
DTSTART:20251102T060000
END:STANDARD
BEGIN:DAYLIGHT
TZOFFSETFROM:-0500
TZOFFSETTO:-0400
TZNAME:EDT
DTSTART:20260308T070000
END:DAYLIGHT
BEGIN:STANDARD
TZOFFSETFROM:-0400
TZOFFSETTO:-0500
TZNAME:EST
DTSTART:20261101T060000
END:STANDARD
END:VTIMEZONE
BEGIN:VEVENT
DTSTART;TZID=America/New_York:20250918T180000
DTEND;TZID=America/New_York:20250918T200000
DTSTAMP:20260424T043853
CREATED:20250812T182003Z
LAST-MODIFIED:20250812T182156Z
UID:3782-1758218400-1758225600@littlehouseonharmonyfarms.com
SUMMARY:Adult Make And Take Sewing Class Slippers
DESCRIPTION:Adult Make And Take Sew Class \nThese classes are a great evening out with your friends! \nThe project will be prepared in advance\, cut out and have any respective notions necessary ready for you to complete the project. \nThese make and take classes are suitable for all levels of sewers.
URL:https://littlehouseonharmonyfarms.com/event/adult-make-and-take-sewing-class-slippers/
LOCATION:Harmony Farms\, 379 Wiese Albert Rd\, Higganum\, CT\, 06441\, United States
ATTACH;FMTTYPE=image/jpeg:https://littlehouseonharmonyfarms.com/wp-content/uploads/2025/06/slippers-sewing-scaled.jpg
ORGANIZER;CN="Harmony Farms":MAILTO:tara@littlehouseonharmonyfarms.com
END:VEVENT
END:VCALENDAR