BEGIN:VCALENDAR
VERSION:2.0
PRODID:-//Little House on Harmony Farms - ECPv6.15.13//NONSGML v1.0//EN
CALSCALE:GREGORIAN
METHOD:PUBLISH
X-WR-CALNAME:Little House on Harmony Farms
X-ORIGINAL-URL:https://littlehouseonharmonyfarms.com
X-WR-CALDESC:Events for Little House on Harmony Farms
REFRESH-INTERVAL;VALUE=DURATION:PT1H
X-Robots-Tag:noindex
X-PUBLISHED-TTL:PT1H
BEGIN:VTIMEZONE
TZID:America/New_York
BEGIN:DAYLIGHT
TZOFFSETFROM:-0500
TZOFFSETTO:-0400
TZNAME:EDT
DTSTART:20240310T070000
END:DAYLIGHT
BEGIN:STANDARD
TZOFFSETFROM:-0400
TZOFFSETTO:-0500
TZNAME:EST
DTSTART:20241103T060000
END:STANDARD
BEGIN:DAYLIGHT
TZOFFSETFROM:-0500
TZOFFSETTO:-0400
TZNAME:EDT
DTSTART:20250309T070000
END:DAYLIGHT
BEGIN:STANDARD
TZOFFSETFROM:-0400
TZOFFSETTO:-0500
TZNAME:EST
DTSTART:20251102T060000
END:STANDARD
BEGIN:DAYLIGHT
TZOFFSETFROM:-0500
TZOFFSETTO:-0400
TZNAME:EDT
DTSTART:20260308T070000
END:DAYLIGHT
BEGIN:STANDARD
TZOFFSETFROM:-0400
TZOFFSETTO:-0500
TZNAME:EST
DTSTART:20261101T060000
END:STANDARD
END:VTIMEZONE
BEGIN:VEVENT
DTSTART;TZID=America/New_York:20250728T090000
DTEND;TZID=America/New_York:20250801T130000
DTSTAMP:20260424T092729
CREATED:20250522T170307Z
LAST-MODIFIED:20250522T170307Z
UID:3475-1753693200-1754053200@littlehouseonharmonyfarms.com
SUMMARY:Farm Camp Session 2
DESCRIPTION:Join us for our week long summer program and learn all about farm animals!\n\n\n\n\n\nThis program runs Monday through Friday from 9am-1pm  \nWEEK 2: July 28th to August 1st \n*CLICK HERE TO REGISTER* \nYour child will have so much fun learning about and spending time with farm animals\, playing games\, and making handicrafts! \nEach day we will focus on a different farm animal from our farm including alpacas\, nigerian goats\, angora goat\, chickens\, and pony. We will have baby animals throughout the summer as well so your child may be able to snuggle a baby goat or chick.
URL:https://littlehouseonharmonyfarms.com/event/farm-camp-session-2/
LOCATION:Harmony Farms\, 379 Wiese Albert Rd\, Higganum\, CT\, 06441\, United States
ATTACH;FMTTYPE=image/jpeg:https://littlehouseonharmonyfarms.com/wp-content/uploads/2024/02/IMG_7422-scaled.jpg
ORGANIZER;CN="Harmony Farms":MAILTO:tara@littlehouseonharmonyfarms.com
END:VEVENT
BEGIN:VEVENT
DTSTART;TZID=America/New_York:20250804T133000
DTEND;TZID=America/New_York:20250804T153000
DTSTAMP:20260424T092729
CREATED:20250618T000837Z
LAST-MODIFIED:20250618T000837Z
UID:3565-1754314200-1754321400@littlehouseonharmonyfarms.com
SUMMARY:Make And Take Sewing Class Ages 8 And Up
DESCRIPTION:In this Make and Take make class\, we will be sewing a goat plush! \nThis make and take class is part of our summer schedule. It runs differently than our regular programs because summers can get busy and we wanted to ensure our students would be able to complete their projects. Because of this\, the projects will be cut out and prepared in advance and the students will sew them together. \nDuring these summer classes\, we will heavily focus on sewing skills.
URL:https://littlehouseonharmonyfarms.com/event/make-and-take-sewing-class-ages-8-and-up-3/
LOCATION:Harmony Farms\, 379 Wiese Albert Rd\, Higganum\, CT\, 06441\, United States
ORGANIZER;CN="Harmony Farms":MAILTO:tara@littlehouseonharmonyfarms.com
END:VEVENT
BEGIN:VEVENT
DTSTART;TZID=America/New_York:20250806T100000
DTEND;TZID=America/New_York:20250806T111500
DTSTAMP:20260424T092729
CREATED:20250618T003102Z
LAST-MODIFIED:20250618T003102Z
UID:3588-1754474400-1754478900@littlehouseonharmonyfarms.com
SUMMARY:Hand Sewing Class With Creature Feature Ages 4-7
DESCRIPTION:This class  is designed for younger students ages 4 and up that would like to move onto sewing lessons when they are older\, or are creative and like to use their hands. In this class\, we will learn how to sew with a hand needle while creating fun projects that can be taken home at the end of each class. The last 15 minutes of class\, weather permitting\, we will have a creature feature. During this time\, they will be able to meet one of the animals on the farm and ask questions. \n*This class may require parent participation. You may need to help your child/children as they fine tune their fine motor skills and become more independent.
URL:https://littlehouseonharmonyfarms.com/event/hand-sewing-class-with-creature-feature-ages-4-7-4/
LOCATION:Harmony Farms\, 379 Wiese Albert Rd\, Higganum\, CT\, 06441\, United States
ORGANIZER;CN="Harmony Farms":MAILTO:tara@littlehouseonharmonyfarms.com
END:VEVENT
BEGIN:VEVENT
DTSTART;TZID=America/New_York:20250807T140000
DTEND;TZID=America/New_York:20250807T160000
DTSTAMP:20260424T092729
CREATED:20250618T001133Z
LAST-MODIFIED:20250618T001244Z
UID:3568-1754575200-1754582400@littlehouseonharmonyfarms.com
SUMMARY:Make And Take Sewing Class Ages 8 And UP
DESCRIPTION:In this Make and Take make class\, we will sew a goat plush! \nThis make and take class is part of our summer schedule. It runs differently than our regular programs because summers can get busy and we wanted to ensure our students would be able to complete their projects. Because of this\, the projects will be cut out and prepared in advance and the students will sew them together. \nDuring these summer classes\, we will heavily focus on sewing skills.
URL:https://littlehouseonharmonyfarms.com/event/make-and-take-sewing-class-ages-8-and-up-4/
LOCATION:Harmony Farms\, 379 Wiese Albert Rd\, Higganum\, CT\, 06441\, United States
ORGANIZER;CN="Harmony Farms":MAILTO:tara@littlehouseonharmonyfarms.com
END:VEVENT
BEGIN:VEVENT
DTSTART;TZID=America/New_York:20250811T133000
DTEND;TZID=America/New_York:20250811T153000
DTSTAMP:20260424T092729
CREATED:20250618T001441Z
LAST-MODIFIED:20250618T001441Z
UID:3570-1754919000-1754926200@littlehouseonharmonyfarms.com
SUMMARY:Make And Take Sewing Class Ages 8 And Up
DESCRIPTION:In this Make and Take make class\, we will be sewing a quilted pencil case! \nThis make and take class is part of our summer schedule. It runs differently than our regular programs because summers can get busy and we wanted to ensure our students would be able to complete their projects. Because of this\, the projects will be cut out and prepared in advance and the students will sew them together. \nDuring these summer classes\, we will heavily focus on sewing skills.
URL:https://littlehouseonharmonyfarms.com/event/make-and-take-sewing-class-ages-8-and-up-5/
LOCATION:Harmony Farms\, 379 Wiese Albert Rd\, Higganum\, CT\, 06441\, United States
ORGANIZER;CN="Harmony Farms":MAILTO:tara@littlehouseonharmonyfarms.com
END:VEVENT
BEGIN:VEVENT
DTSTART;TZID=America/New_York:20250813T090000
DTEND;TZID=America/New_York:20250813T111500
DTSTAMP:20260424T092729
CREATED:20250618T003327Z
LAST-MODIFIED:20250618T003327Z
UID:3590-1755075600-1755083700@littlehouseonharmonyfarms.com
SUMMARY:Hand Sewing Class with Creature Feature Ages 4-7
DESCRIPTION:This class  is designed for younger students ages 4 and up that would like to move onto sewing lessons when they are older\, or are creative and like to use their hands. In this class\, we will learn how to sew with a hand needle while creating fun projects that can be taken home at the end of each class. The last 15 minutes of class\, weather permitting\, we will have a creature feature. During this time\, they will be able to meet one of the animals on the farm and ask questions. \n*This class may require parent participation. You may need to help your child/children as they fine tune their fine motor skills and become more independent.
URL:https://littlehouseonharmonyfarms.com/event/hand-sewing-class-with-creature-feature-ages-4-7-5/
LOCATION:Harmony Farms\, 379 Wiese Albert Rd\, Higganum\, CT\, 06441\, United States
ORGANIZER;CN="Harmony Farms":MAILTO:tara@littlehouseonharmonyfarms.com
END:VEVENT
BEGIN:VEVENT
DTSTART;TZID=America/New_York:20250816T090000
DTEND;TZID=America/New_York:20250816T094500
DTSTAMP:20260424T092729
CREATED:20250618T005509Z
LAST-MODIFIED:20250618T005523Z
UID:3600-1755334800-1755337500@littlehouseonharmonyfarms.com
SUMMARY:Goat Snuggles!!!!
DESCRIPTION:What better way to spend your morning than to  snuggle goats! \nThis 45 minute activity will be filled with goat snuggles and love from our super friendly goats. \nThis is a great activity for the whole family or come with some friends.
URL:https://littlehouseonharmonyfarms.com/event/goat-snuggles-3/
LOCATION:Harmony Farms\, 379 Wiese Albert Rd\, Higganum\, CT\, 06441\, United States
ORGANIZER;CN="Harmony Farms":MAILTO:tara@littlehouseonharmonyfarms.com
END:VEVENT
END:VCALENDAR