BEGIN:VCALENDAR
VERSION:2.0
PRODID:-//Little House on Harmony Farms - ECPv6.15.13//NONSGML v1.0//EN
CALSCALE:GREGORIAN
METHOD:PUBLISH
X-ORIGINAL-URL:https://littlehouseonharmonyfarms.com
X-WR-CALDESC:Events for Little House on Harmony Farms
REFRESH-INTERVAL;VALUE=DURATION:PT1H
X-Robots-Tag:noindex
X-PUBLISHED-TTL:PT1H
BEGIN:VTIMEZONE
TZID:America/New_York
BEGIN:DAYLIGHT
TZOFFSETFROM:-0500
TZOFFSETTO:-0400
TZNAME:EDT
DTSTART:20240310T070000
END:DAYLIGHT
BEGIN:STANDARD
TZOFFSETFROM:-0400
TZOFFSETTO:-0500
TZNAME:EST
DTSTART:20241103T060000
END:STANDARD
BEGIN:DAYLIGHT
TZOFFSETFROM:-0500
TZOFFSETTO:-0400
TZNAME:EDT
DTSTART:20250309T070000
END:DAYLIGHT
BEGIN:STANDARD
TZOFFSETFROM:-0400
TZOFFSETTO:-0500
TZNAME:EST
DTSTART:20251102T060000
END:STANDARD
BEGIN:DAYLIGHT
TZOFFSETFROM:-0500
TZOFFSETTO:-0400
TZNAME:EDT
DTSTART:20260308T070000
END:DAYLIGHT
BEGIN:STANDARD
TZOFFSETFROM:-0400
TZOFFSETTO:-0500
TZNAME:EST
DTSTART:20261101T060000
END:STANDARD
END:VTIMEZONE
BEGIN:VEVENT
DTSTART;TZID=America/New_York:20250926T100000
DTEND;TZID=America/New_York:20250926T120000
DTSTAMP:20260424T092242
CREATED:20250812T171809Z
LAST-MODIFIED:20250812T180607Z
UID:3742-1758880800-1758888000@littlehouseonharmonyfarms.com
SUMMARY:Sewing Classes Group B Ages 8 And Up Class 2of4
DESCRIPTION:This is no ordinary sewing class of make and take projects! \nIn this class\, the students will learn the entire process of sewing starting with cutting out the pattern with fabric to sewing it into a completed project. Each project will focus on a new skill. This class is meant to be a progressive class where the students will learn the process of sewing from raw materials to completion. They will be cutting fabric\, learning to use a sewing machine\, pinning\, measuring\, using patterns and so much more. \nWe are located at 379 Wiese Albert Rd. Higganum CT.
URL:https://littlehouseonharmonyfarms.com/event/sewing-classes-group-b-ages-8-and-up-2/
LOCATION:Harmony Farms\, 379 Wiese Albert Rd\, Higganum\, CT\, 06441\, United States
ORGANIZER;CN="Harmony Farms":MAILTO:tara@littlehouseonharmonyfarms.com
END:VEVENT
END:VCALENDAR