BEGIN:VCALENDAR
VERSION:2.0
PRODID:-//Little House on Harmony Farms - ECPv6.15.13//NONSGML v1.0//EN
CALSCALE:GREGORIAN
METHOD:PUBLISH
X-WR-CALNAME:Little House on Harmony Farms
X-ORIGINAL-URL:https://littlehouseonharmonyfarms.com
X-WR-CALDESC:Events for Little House on Harmony Farms
REFRESH-INTERVAL;VALUE=DURATION:PT1H
X-Robots-Tag:noindex
X-PUBLISHED-TTL:PT1H
BEGIN:VTIMEZONE
TZID:America/New_York
BEGIN:DAYLIGHT
TZOFFSETFROM:-0500
TZOFFSETTO:-0400
TZNAME:EDT
DTSTART:20240310T070000
END:DAYLIGHT
BEGIN:STANDARD
TZOFFSETFROM:-0400
TZOFFSETTO:-0500
TZNAME:EST
DTSTART:20241103T060000
END:STANDARD
BEGIN:DAYLIGHT
TZOFFSETFROM:-0500
TZOFFSETTO:-0400
TZNAME:EDT
DTSTART:20250309T070000
END:DAYLIGHT
BEGIN:STANDARD
TZOFFSETFROM:-0400
TZOFFSETTO:-0500
TZNAME:EST
DTSTART:20251102T060000
END:STANDARD
BEGIN:DAYLIGHT
TZOFFSETFROM:-0500
TZOFFSETTO:-0400
TZNAME:EDT
DTSTART:20260308T070000
END:DAYLIGHT
BEGIN:STANDARD
TZOFFSETFROM:-0400
TZOFFSETTO:-0500
TZNAME:EST
DTSTART:20261101T060000
END:STANDARD
END:VTIMEZONE
BEGIN:VEVENT
DTSTART;TZID=America/New_York:20250804T133000
DTEND;TZID=America/New_York:20250804T153000
DTSTAMP:20260424T085453
CREATED:20250618T000837Z
LAST-MODIFIED:20250618T000837Z
UID:3565-1754314200-1754321400@littlehouseonharmonyfarms.com
SUMMARY:Make And Take Sewing Class Ages 8 And Up
DESCRIPTION:In this Make and Take make class\, we will be sewing a goat plush! \nThis make and take class is part of our summer schedule. It runs differently than our regular programs because summers can get busy and we wanted to ensure our students would be able to complete their projects. Because of this\, the projects will be cut out and prepared in advance and the students will sew them together. \nDuring these summer classes\, we will heavily focus on sewing skills.
URL:https://littlehouseonharmonyfarms.com/event/make-and-take-sewing-class-ages-8-and-up-3/
LOCATION:Harmony Farms\, 379 Wiese Albert Rd\, Higganum\, CT\, 06441\, United States
ORGANIZER;CN="Harmony Farms":MAILTO:tara@littlehouseonharmonyfarms.com
END:VEVENT
END:VCALENDAR